BEGIN:VCALENDAR
VERSION:2.0
PRODID:-//Universiti Brunei Darussalam - ECPv6.13.2.1//NONSGML v1.0//EN
CALSCALE:GREGORIAN
METHOD:PUBLISH
X-WR-CALNAME:Universiti Brunei Darussalam
X-ORIGINAL-URL:https://ubd.edu.bn
X-WR-CALDESC:Events for Universiti Brunei Darussalam
REFRESH-INTERVAL;VALUE=DURATION:PT1H
X-Robots-Tag:noindex
X-PUBLISHED-TTL:PT1H
BEGIN:VTIMEZONE
TZID:Asia/Singapore
BEGIN:STANDARD
TZOFFSETFROM:+0800
TZOFFSETTO:+0800
TZNAME:+08
DTSTART:20260101T000000
END:STANDARD
END:VTIMEZONE
BEGIN:VEVENT
DTSTART;TZID=Asia/Singapore:20260420T140000
DTEND;TZID=Asia/Singapore:20260420T160000
DTSTAMP:20260420T191139
CREATED:20260420T014115Z
LAST-MODIFIED:20260420T014115Z
UID:10000288-1776693600-1776700800@ubd.edu.bn
SUMMARY:IAS Workshop | What is Your Career Capital? Shaping Your Research and Future Path
DESCRIPTION:
URL:https://ubd.edu.bn/event/ias-workshop-what-is-your-career-capital-shaping-your-research-and-future-path/
LOCATION:room 2.27\, IAS Meeting Room\, 2nd Floor\, FASS Building
CATEGORIES:Seminar
ATTACH;FMTTYPE=image/png:https://ubd.edu.bn/wp-content/uploads/2026/04/IAS-Graduate-Workshop-Ms-Hong-Sungah-20Apr26.png
END:VEVENT
BEGIN:VEVENT
DTSTART;TZID=Asia/Singapore:20260420T103000
DTEND;TZID=Asia/Singapore:20260420T123000
DTSTAMP:20260420T191139
CREATED:20260420T013228Z
LAST-MODIFIED:20260420T013746Z
UID:10000287-1776681000-1776688200@ubd.edu.bn
SUMMARY:IAS Seminar Series | The Use and Abuse of Theory in Academic Writings
DESCRIPTION:
URL:https://ubd.edu.bn/event/ias-seminar-series-the-use-and-abuse-of-theory-in-academic-writings/
LOCATION:room 2.27\, IAS Meeting Room\, 2nd Floor\, FASS Building
CATEGORIES:Seminar
ATTACH;FMTTYPE=image/png:https://ubd.edu.bn/wp-content/uploads/2026/04/IAS-Seminar-Series-Prof-Thomas-Hansen-20Apr26.png
END:VEVENT
END:VCALENDAR