BEGIN:VCALENDAR
VERSION:2.0
PRODID:-//Universiti Brunei Darussalam - ECPv6.13.2.1//NONSGML v1.0//EN
CALSCALE:GREGORIAN
METHOD:PUBLISH
X-ORIGINAL-URL:https://ubd.edu.bn
X-WR-CALDESC:Events for Universiti Brunei Darussalam
REFRESH-INTERVAL;VALUE=DURATION:PT1H
X-Robots-Tag:noindex
X-PUBLISHED-TTL:PT1H
BEGIN:VTIMEZONE
TZID:Asia/Singapore
BEGIN:STANDARD
TZOFFSETFROM:+0800
TZOFFSETTO:+0800
TZNAME:+08
DTSTART:20250101T000000
END:STANDARD
END:VTIMEZONE
BEGIN:VEVENT
DTSTART;TZID=Asia/Singapore:20250210T100000
DTEND;TZID=Asia/Singapore:20250210T110000
DTSTAMP:20260426T001550
CREATED:20250210T072933Z
LAST-MODIFIED:20250210T072953Z
UID:10000172-1739181600-1739185200@ubd.edu.bn
SUMMARY:IBER Seminar Series
DESCRIPTION:
URL:https://ubd.edu.bn/event/iber-seminar-series-3/
CATEGORIES:Seminar
ATTACH;FMTTYPE=image/png:https://ubd.edu.bn/wp-content/uploads/2025/02/10FEB_SeminarSeries.png
END:VEVENT
BEGIN:VEVENT
DTSTART;TZID=Asia/Singapore:20250211T130000
DTEND;TZID=Asia/Singapore:20250211T140000
DTSTAMP:20260426T001550
CREATED:20250210T073556Z
LAST-MODIFIED:20250210T073556Z
UID:10000177-1739278800-1739282400@ubd.edu.bn
SUMMARY:FASS Seminar Series
DESCRIPTION:
URL:https://ubd.edu.bn/event/fass-seminar-series-2/
CATEGORIES:Seminar
ATTACH;FMTTYPE=image/jpeg:https://ubd.edu.bn/wp-content/uploads/2025/02/11FEB_FASS.jpg
END:VEVENT
BEGIN:VEVENT
DTSTART;TZID=Asia/Singapore:20250212T090000
DTEND;TZID=Asia/Singapore:20250212T100000
DTSTAMP:20260426T001550
CREATED:20250210T073506Z
LAST-MODIFIED:20250210T073607Z
UID:10000176-1739350800-1739354400@ubd.edu.bn
SUMMARY:SHBIE Seminar | Competency-Based Assessment (CBA): A Practical Approach to Evaluating Skills\, Knowledge\, and Performance by Associate Professor Ts.Dr. Asnul Minghat
DESCRIPTION:
URL:https://ubd.edu.bn/event/shbie-seminar-competency-based-assessment-cba-a-practical-approach-to-evaluating-skills-knowledge-and-performance-by-associate-professor-ts-dr-asnul-minghat/
CATEGORIES:Seminar
ATTACH;FMTTYPE=image/png:https://ubd.edu.bn/wp-content/uploads/2025/02/12FEB_SHBIE.png
END:VEVENT
BEGIN:VEVENT
DTSTART;TZID=Asia/Singapore:20250212T140000
DTEND;TZID=Asia/Singapore:20250212T150000
DTSTAMP:20260426T001550
CREATED:20250210T073110Z
LAST-MODIFIED:20250210T073251Z
UID:10000173-1739368800-1739372400@ubd.edu.bn
SUMMARY:UBDSBE Seminar Series | Entrepreneurship Self-Employment\, and Self-Actualization: My Personal Experience
DESCRIPTION:
URL:https://ubd.edu.bn/event/ubdsbe-seminar-series-entrepreneurship-self-employment-and-self-actualization-my-personal-experience/
CATEGORIES:Seminar
ATTACH;FMTTYPE=image/jpeg:https://ubd.edu.bn/wp-content/uploads/2025/02/12FEB_UBDSBE.jpg
END:VEVENT
BEGIN:VEVENT
DTSTART;TZID=Asia/Singapore:20250219T130000
DTEND;TZID=Asia/Singapore:20250219T140000
DTSTAMP:20260426T001550
CREATED:20250213T060928Z
LAST-MODIFIED:20250213T060928Z
UID:10000183-1739970000-1739973600@ubd.edu.bn
SUMMARY:FASS Seminar Series
DESCRIPTION:
URL:https://ubd.edu.bn/event/fass-seminar-series-3/
CATEGORIES:Seminar
ATTACH;FMTTYPE=image/jpeg:https://ubd.edu.bn/wp-content/uploads/2025/02/19FEB_FASS.jpg
END:VEVENT
BEGIN:VEVENT
DTSTART;TZID=Asia/Singapore:20250219T140000
DTEND;TZID=Asia/Singapore:20250219T160000
DTSTAMP:20260426T001550
CREATED:20250213T060517Z
LAST-MODIFIED:20250213T060517Z
UID:10000182-1739973600-1739980800@ubd.edu.bn
SUMMARY:IBER Seminar Series
DESCRIPTION:
URL:https://ubd.edu.bn/event/iber-seminar-series-4/
CATEGORIES:Seminar
ATTACH;FMTTYPE=image/jpeg:https://ubd.edu.bn/wp-content/uploads/2025/02/19FEB_IBER.jpg
END:VEVENT
END:VCALENDAR