BEGIN:VCALENDAR
VERSION:2.0
PRODID:-//Universiti Brunei Darussalam - ECPv6.13.2.1//NONSGML v1.0//EN
CALSCALE:GREGORIAN
METHOD:PUBLISH
X-ORIGINAL-URL:https://ubd.edu.bn
X-WR-CALDESC:Events for Universiti Brunei Darussalam
REFRESH-INTERVAL;VALUE=DURATION:PT1H
X-Robots-Tag:noindex
X-PUBLISHED-TTL:PT1H
BEGIN:VTIMEZONE
TZID:Asia/Singapore
BEGIN:STANDARD
TZOFFSETFROM:+0800
TZOFFSETTO:+0800
TZNAME:+08
DTSTART:20250101T000000
END:STANDARD
END:VTIMEZONE
BEGIN:VEVENT
DTSTART;TZID=Asia/Singapore:20250409T130000
DTEND;TZID=Asia/Singapore:20250409T140000
DTSTAMP:20260425T185226
CREATED:20250407T023028Z
LAST-MODIFIED:20250407T023028Z
UID:10000211-1744203600-1744207200@ubd.edu.bn
SUMMARY:FASS Seminar Series | Impact of Gender\, Patriarchy\, and Culture on Bruneian Women's Travel Experiences
DESCRIPTION:
URL:https://ubd.edu.bn/event/fass-seminar-series-impact-of-gender-patriarchy-and-culture-on-bruneian-womens-travel-experiences/
CATEGORIES:Seminar
ATTACH;FMTTYPE=image/jpeg:https://ubd.edu.bn/wp-content/uploads/2025/04/9APR_FASS.jpg
END:VEVENT
BEGIN:VEVENT
DTSTART;TZID=Asia/Singapore:20250416T140000
DTEND;TZID=Asia/Singapore:20250416T150000
DTSTAMP:20260425T185226
CREATED:20250327T031447Z
LAST-MODIFIED:20250327T031447Z
UID:10000202-1744812000-1744815600@ubd.edu.bn
SUMMARY:2nd Herbal Research Webinar Series 2025
DESCRIPTION:
URL:https://ubd.edu.bn/event/2nd-herbal-research-webinar-series-2025/
CATEGORIES:Seminar,Webinar
ATTACH;FMTTYPE=image/png:https://ubd.edu.bn/wp-content/uploads/2025/03/16APR_HRG.png
END:VEVENT
BEGIN:VEVENT
DTSTART;TZID=Asia/Singapore:20250421T143000
DTEND;TZID=Asia/Singapore:20250421T153000
DTSTAMP:20260425T185226
CREATED:20250414T024405Z
LAST-MODIFIED:20250414T024405Z
UID:10000216-1745245800-1745249400@ubd.edu.bn
SUMMARY:The Dance of Thought and Imagination in the Mind
DESCRIPTION:
URL:https://ubd.edu.bn/event/the-dance-of-thought-and-imagination-in-the-mind/
CATEGORIES:Seminar
ATTACH;FMTTYPE=image/jpeg:https://ubd.edu.bn/wp-content/uploads/2025/04/21APR_ILIA-scaled.jpg
END:VEVENT
BEGIN:VEVENT
DTSTART;TZID=Asia/Singapore:20250422T140000
DTEND;TZID=Asia/Singapore:20250422T150000
DTSTAMP:20260425T185226
CREATED:20250422T021923Z
LAST-MODIFIED:20250422T021923Z
UID:10000227-1745330400-1745334000@ubd.edu.bn
SUMMARY:FASS Seminar Series
DESCRIPTION:
URL:https://ubd.edu.bn/event/fass-seminar-series-4/
CATEGORIES:Seminar
ATTACH;FMTTYPE=image/png:https://ubd.edu.bn/wp-content/uploads/2025/04/FASS_22APR.png
END:VEVENT
BEGIN:VEVENT
DTSTART;TZID=Asia/Singapore:20250429T090000
DTEND;TZID=Asia/Singapore:20250429T100000
DTSTAMP:20260425T185226
CREATED:20250428T022146Z
LAST-MODIFIED:20250428T022146Z
UID:10000228-1745917200-1745920800@ubd.edu.bn
SUMMARY:SHBIE Faculty Seminar
DESCRIPTION:
URL:https://ubd.edu.bn/event/shbie-faculty-seminar-2/
CATEGORIES:Seminar
ATTACH;FMTTYPE=image/jpeg:https://ubd.edu.bn/wp-content/uploads/2025/04/29APR_SHBIE.jpg
END:VEVENT
END:VCALENDAR