BEGIN:VCALENDAR
VERSION:2.0
PRODID:-//Universiti Brunei Darussalam - ECPv6.13.2.1//NONSGML v1.0//EN
CALSCALE:GREGORIAN
METHOD:PUBLISH
X-ORIGINAL-URL:https://ubd.edu.bn
X-WR-CALDESC:Events for Universiti Brunei Darussalam
REFRESH-INTERVAL;VALUE=DURATION:PT1H
X-Robots-Tag:noindex
X-PUBLISHED-TTL:PT1H
BEGIN:VTIMEZONE
TZID:Asia/Singapore
BEGIN:STANDARD
TZOFFSETFROM:+0800
TZOFFSETTO:+0800
TZNAME:+08
DTSTART:20240101T000000
END:STANDARD
END:VTIMEZONE
BEGIN:VEVENT
DTSTART;TZID=Asia/Singapore:20241111T140000
DTEND;TZID=Asia/Singapore:20241111T150000
DTSTAMP:20260426T082306
CREATED:20241111T030234Z
LAST-MODIFIED:20241111T030234Z
UID:10000141-1731333600-1731337200@ubd.edu.bn
SUMMARY:PAPRSB IHS Continuous Professional Development Seminar
DESCRIPTION:
URL:https://ubd.edu.bn/event/paprsb-ihs-continuous-professional-development-seminar/
CATEGORIES:Academic,Seminar
ATTACH;FMTTYPE=image/jpeg:https://ubd.edu.bn/wp-content/uploads/2024/11/11NOV_IHS-scaled.jpg
END:VEVENT
BEGIN:VEVENT
DTSTART;TZID=Asia/Singapore:20241111T140000
DTEND;TZID=Asia/Singapore:20241111T153000
DTSTAMP:20260426T082306
CREATED:20241105T025738Z
LAST-MODIFIED:20241105T025830Z
UID:10000136-1731333600-1731339000@ubd.edu.bn
SUMMARY:PAPRSB IHS Seminar
DESCRIPTION:Pengiran Anak Puteri Rashidah Sa’adatul Bolkiah\nInstitute of Health Sciences\nPharmacists’ Role in Shaping the Future of Medicine and Pharmaceutical Care: Insights from the 1st JoPPP-BIPC 2024 Conference\nby\nDk Dr. Nurolaini binti Pg Hj Muhammad Kifli\,\nSenior Assistant Professor\, PAPRSBIHS
URL:https://ubd.edu.bn/event/paprsb-ihs-seminar/
LOCATION:Lecture Theatre 1\, Level 1\, Main PAPRSB IHS Building
CATEGORIES:Academic,Seminar
END:VEVENT
END:VCALENDAR