BEGIN:VCALENDAR
VERSION:2.0
PRODID:-//Universiti Brunei Darussalam - ECPv6.13.2.1//NONSGML v1.0//EN
CALSCALE:GREGORIAN
METHOD:PUBLISH
X-WR-CALNAME:Universiti Brunei Darussalam
X-ORIGINAL-URL:https://ubd.edu.bn
X-WR-CALDESC:Events for Universiti Brunei Darussalam
REFRESH-INTERVAL;VALUE=DURATION:PT1H
X-Robots-Tag:noindex
X-PUBLISHED-TTL:PT1H
BEGIN:VTIMEZONE
TZID:Asia/Singapore
BEGIN:STANDARD
TZOFFSETFROM:+0800
TZOFFSETTO:+0800
TZNAME:+08
DTSTART:20240101T000000
END:STANDARD
END:VTIMEZONE
BEGIN:VEVENT
DTSTART;TZID=Asia/Singapore:20241114T083000
DTEND;TZID=Asia/Singapore:20241114T110000
DTSTAMP:20260426T082150
CREATED:20241025T083628Z
LAST-MODIFIED:20241025T083628Z
UID:10000099-1731573000-1731582000@ubd.edu.bn
SUMMARY:SDS SEMINAR SERIES
DESCRIPTION:
URL:https://ubd.edu.bn/event/sds-seminar-series/
CATEGORIES:Seminar
ATTACH;FMTTYPE=image/jpeg:https://ubd.edu.bn/wp-content/uploads/2024/10/SDS_14NOV.jpg
END:VEVENT
END:VCALENDAR