BEGIN:VCALENDAR
VERSION:2.0
PRODID:-//Universiti Brunei Darussalam - ECPv6.13.2.1//NONSGML v1.0//EN
CALSCALE:GREGORIAN
METHOD:PUBLISH
X-ORIGINAL-URL:https://ubd.edu.bn
X-WR-CALDESC:Events for Universiti Brunei Darussalam
REFRESH-INTERVAL;VALUE=DURATION:PT1H
X-Robots-Tag:noindex
X-PUBLISHED-TTL:PT1H
BEGIN:VTIMEZONE
TZID:Asia/Singapore
BEGIN:STANDARD
TZOFFSETFROM:+0800
TZOFFSETTO:+0800
TZNAME:+08
DTSTART:20240101T000000
END:STANDARD
END:VTIMEZONE
BEGIN:VEVENT
DTSTART;TZID=Asia/Singapore:20241115T143000
DTEND;TZID=Asia/Singapore:20241115T153000
DTSTAMP:20260426T082302
CREATED:20241111T030515Z
LAST-MODIFIED:20241111T030515Z
UID:10000143-1731681000-1731684600@ubd.edu.bn
SUMMARY:FOS Seminar Series
DESCRIPTION:
URL:https://ubd.edu.bn/event/fos-seminar-series/
CATEGORIES:Academic,Seminar
ATTACH;FMTTYPE=image/png:https://ubd.edu.bn/wp-content/uploads/2024/11/15NOV_FOS.png
END:VEVENT
END:VCALENDAR