BEGIN:VCALENDAR
VERSION:2.0
PRODID:-//Universiti Brunei Darussalam - ECPv6.13.2.1//NONSGML v1.0//EN
CALSCALE:GREGORIAN
METHOD:PUBLISH
X-WR-CALNAME:Universiti Brunei Darussalam
X-ORIGINAL-URL:https://ubd.edu.bn
X-WR-CALDESC:Events for Universiti Brunei Darussalam
REFRESH-INTERVAL;VALUE=DURATION:PT1H
X-Robots-Tag:noindex
X-PUBLISHED-TTL:PT1H
BEGIN:VTIMEZONE
TZID:Asia/Singapore
BEGIN:STANDARD
TZOFFSETFROM:+0800
TZOFFSETTO:+0800
TZNAME:+08
DTSTART:20240101T000000
END:STANDARD
END:VTIMEZONE
BEGIN:VEVENT
DTSTART;TZID=Asia/Singapore:20241127T100000
DTEND;TZID=Asia/Singapore:20241127T110000
DTSTAMP:20260426T093952
CREATED:20241126T072930Z
LAST-MODIFIED:20241126T072930Z
UID:10000150-1732701600-1732705200@ubd.edu.bn
SUMMARY:IBER Seminar Series
DESCRIPTION:
URL:https://ubd.edu.bn/event/iber-seminar-series-2/
CATEGORIES:Academic,Seminar
ATTACH;FMTTYPE=image/jpeg:https://ubd.edu.bn/wp-content/uploads/2024/11/27NOV_IBER.jpg
END:VEVENT
BEGIN:VEVENT
DTSTART;TZID=Asia/Singapore:20241127T140000
DTEND;TZID=Asia/Singapore:20241127T150000
DTSTAMP:20260426T093952
CREATED:20241105T030357Z
LAST-MODIFIED:20241119T072857Z
UID:10000139-1732716000-1732719600@ubd.edu.bn
SUMMARY:4th Herbal Research Webinar Series 2024
DESCRIPTION:
URL:https://ubd.edu.bn/event/4th-herbal-research-webinar-series-2024/
CATEGORIES:Academic,Seminar
ATTACH;FMTTYPE=image/png:https://ubd.edu.bn/wp-content/uploads/2024/11/27NOV_4thHerbalWebinar.png
END:VEVENT
BEGIN:VEVENT
DTSTART;TZID=Asia/Singapore:20241127T140000
DTEND;TZID=Asia/Singapore:20241127T153000
DTSTAMP:20260426T093952
CREATED:20241125T033347Z
LAST-MODIFIED:20241125T033347Z
UID:10000148-1732716000-1732721400@ubd.edu.bn
SUMMARY:IAS Distinguished Professor Seminar
DESCRIPTION:
URL:https://ubd.edu.bn/event/ias-distinguished-professor-seminar-2/
CATEGORIES:Academic,Seminar
ATTACH;FMTTYPE=image/jpeg:https://ubd.edu.bn/wp-content/uploads/2024/11/27NOV_IAS.jpg
END:VEVENT
END:VCALENDAR