BEGIN:VCALENDAR
VERSION:2.0
PRODID:-//Universiti Brunei Darussalam - ECPv6.13.2.1//NONSGML v1.0//EN
CALSCALE:GREGORIAN
METHOD:PUBLISH
X-ORIGINAL-URL:https://ubd.edu.bn
X-WR-CALDESC:Events for Universiti Brunei Darussalam
REFRESH-INTERVAL;VALUE=DURATION:PT1H
X-Robots-Tag:noindex
X-PUBLISHED-TTL:PT1H
BEGIN:VTIMEZONE
TZID:Asia/Singapore
BEGIN:STANDARD
TZOFFSETFROM:+0800
TZOFFSETTO:+0800
TZNAME:+08
DTSTART:20250101T000000
END:STANDARD
END:VTIMEZONE
BEGIN:VEVENT
DTSTART;TZID=Asia/Singapore:20250211T130000
DTEND;TZID=Asia/Singapore:20250211T140000
DTSTAMP:20260426T015538
CREATED:20250210T073556Z
LAST-MODIFIED:20250210T073556Z
UID:10000177-1739278800-1739282400@ubd.edu.bn
SUMMARY:FASS Seminar Series
DESCRIPTION:
URL:https://ubd.edu.bn/event/fass-seminar-series-2/
CATEGORIES:Seminar
ATTACH;FMTTYPE=image/jpeg:https://ubd.edu.bn/wp-content/uploads/2025/02/11FEB_FASS.jpg
END:VEVENT
END:VCALENDAR