BEGIN:VCALENDAR
VERSION:2.0
PRODID:-//Universiti Brunei Darussalam - ECPv6.13.2.1//NONSGML v1.0//EN
CALSCALE:GREGORIAN
METHOD:PUBLISH
X-ORIGINAL-URL:https://ubd.edu.bn
X-WR-CALDESC:Events for Universiti Brunei Darussalam
REFRESH-INTERVAL;VALUE=DURATION:PT1H
X-Robots-Tag:noindex
X-PUBLISHED-TTL:PT1H
BEGIN:VTIMEZONE
TZID:Asia/Singapore
BEGIN:STANDARD
TZOFFSETFROM:+0800
TZOFFSETTO:+0800
TZNAME:+08
DTSTART:20250101T000000
END:STANDARD
END:VTIMEZONE
BEGIN:VEVENT
DTSTART;TZID=Asia/Singapore:20250312T130000
DTEND;TZID=Asia/Singapore:20250312T140000
DTSTAMP:20260425T223045
CREATED:20250312T005003Z
LAST-MODIFIED:20250312T005003Z
UID:10000190-1741784400-1741788000@ubd.edu.bn
SUMMARY:IAS Seminar Series | Making Neighbours\, Making Kin: Reflections on Fieldwork in Brunei
DESCRIPTION:
URL:https://ubd.edu.bn/event/ias-seminar-series-making-neighbours-making-kin-reflections-on-fieldwork-in-brunei/
LOCATION:room 2.27\, IAS Meeting Room\, 2nd Floor\, FASS Building
CATEGORIES:Seminar
ATTACH;FMTTYPE=image/jpeg:https://ubd.edu.bn/wp-content/uploads/2025/03/12MAR_IAS.jpg
END:VEVENT
END:VCALENDAR