BEGIN:VCALENDAR
VERSION:2.0
PRODID:-//Universiti Brunei Darussalam - ECPv6.13.2.1//NONSGML v1.0//EN
CALSCALE:GREGORIAN
METHOD:PUBLISH
X-ORIGINAL-URL:https://ubd.edu.bn
X-WR-CALDESC:Events for Universiti Brunei Darussalam
REFRESH-INTERVAL;VALUE=DURATION:PT1H
X-Robots-Tag:noindex
X-PUBLISHED-TTL:PT1H
BEGIN:VTIMEZONE
TZID:Asia/Singapore
BEGIN:STANDARD
TZOFFSETFROM:+0800
TZOFFSETTO:+0800
TZNAME:+08
DTSTART:20250101T000000
END:STANDARD
END:VTIMEZONE
BEGIN:VEVENT
DTSTART;TZID=Asia/Singapore:20250326T130000
DTEND;TZID=Asia/Singapore:20250326T140000
DTSTAMP:20260425T223045
CREATED:20250324T030817Z
LAST-MODIFIED:20250324T030817Z
UID:10000198-1742994000-1742997600@ubd.edu.bn
SUMMARY:FASS Seminar Series | Cultural Assimilation and identity Among Chinese 'Migrants' in Receiving Countries
DESCRIPTION:
URL:https://ubd.edu.bn/event/fass-seminar-series-cultural-assimilation-and-identity-among-chinese-migrants-in-receiving-countries/
CATEGORIES:Seminar
ATTACH;FMTTYPE=image/png:https://ubd.edu.bn/wp-content/uploads/2025/03/26MAR_FASS.png
END:VEVENT
END:VCALENDAR