BEGIN:VCALENDAR
VERSION:2.0
PRODID:-//Universiti Brunei Darussalam - ECPv6.13.2.1//NONSGML v1.0//EN
CALSCALE:GREGORIAN
METHOD:PUBLISH
X-WR-CALNAME:Universiti Brunei Darussalam
X-ORIGINAL-URL:https://ubd.edu.bn
X-WR-CALDESC:Events for Universiti Brunei Darussalam
REFRESH-INTERVAL;VALUE=DURATION:PT1H
X-Robots-Tag:noindex
X-PUBLISHED-TTL:PT1H
BEGIN:VTIMEZONE
TZID:Asia/Singapore
BEGIN:STANDARD
TZOFFSETFROM:+0800
TZOFFSETTO:+0800
TZNAME:+08
DTSTART:20250101T000000
END:STANDARD
END:VTIMEZONE
BEGIN:VEVENT
DTSTART;TZID=Asia/Singapore:20250422T140000
DTEND;TZID=Asia/Singapore:20250422T150000
DTSTAMP:20260426T112252
CREATED:20250422T021923Z
LAST-MODIFIED:20250422T021923Z
UID:10000227-1745330400-1745334000@ubd.edu.bn
SUMMARY:FASS Seminar Series
DESCRIPTION:
URL:https://ubd.edu.bn/event/fass-seminar-series-4/
CATEGORIES:Seminar
ATTACH;FMTTYPE=image/png:https://ubd.edu.bn/wp-content/uploads/2025/04/FASS_22APR.png
END:VEVENT
BEGIN:VEVENT
DTSTART;TZID=Asia/Singapore:20250429T090000
DTEND;TZID=Asia/Singapore:20250429T100000
DTSTAMP:20260426T112252
CREATED:20250428T022146Z
LAST-MODIFIED:20250428T022146Z
UID:10000228-1745917200-1745920800@ubd.edu.bn
SUMMARY:SHBIE Faculty Seminar
DESCRIPTION:
URL:https://ubd.edu.bn/event/shbie-faculty-seminar-2/
CATEGORIES:Seminar
ATTACH;FMTTYPE=image/jpeg:https://ubd.edu.bn/wp-content/uploads/2025/04/29APR_SHBIE.jpg
END:VEVENT
BEGIN:VEVENT
DTSTART;TZID=Asia/Singapore:20250527T080000
DTEND;TZID=Asia/Singapore:20250528T170000
DTSTAMP:20260426T112252
CREATED:20250428T022616Z
LAST-MODIFIED:20250428T022616Z
UID:10000229-1748332800-1748451600@ubd.edu.bn
SUMMARY:APCA-ANPOR-UBD Conference 2025
DESCRIPTION:
URL:https://ubd.edu.bn/event/apca-anpor-ubd-conference-2025-2/
CATEGORIES:Conference,Seminar
ATTACH;FMTTYPE=image/png:https://ubd.edu.bn/wp-content/uploads/2025/04/APCA-1.png
END:VEVENT
BEGIN:VEVENT
DTSTART;TZID=Asia/Singapore:20250605T143000
DTEND;TZID=Asia/Singapore:20250605T160000
DTSTAMP:20260426T112252
CREATED:20250528T080718Z
LAST-MODIFIED:20250528T080817Z
UID:10000239-1749133800-1749139200@ubd.edu.bn
SUMMARY:IBER Seminar Series
DESCRIPTION:
URL:https://ubd.edu.bn/event/iber-seminar-series-5/
CATEGORIES:Seminar
ATTACH;FMTTYPE=image/png:https://ubd.edu.bn/wp-content/uploads/2025/05/IBER-Seminar.png
END:VEVENT
BEGIN:VEVENT
DTSTART;TZID=Asia/Singapore:20250618T100000
DTEND;TZID=Asia/Singapore:20250618T113000
DTSTAMP:20260426T112252
CREATED:20250612T120528Z
LAST-MODIFIED:20250612T120528Z
UID:10000242-1750240800-1750246200@ubd.edu.bn
SUMMARY:Seminar on Islam and Science
DESCRIPTION:
URL:https://ubd.edu.bn/event/seminar-on-islam-and-science/
CATEGORIES:Seminar
ATTACH;FMTTYPE=image/png:https://ubd.edu.bn/wp-content/uploads/2025/06/18JUNE_soascis.png
END:VEVENT
BEGIN:VEVENT
DTSTART;TZID=Asia/Singapore:20250712T150000
DTEND;TZID=Asia/Singapore:20250712T163000
DTSTAMP:20260426T112252
CREATED:20250702T115711Z
LAST-MODIFIED:20250702T115711Z
UID:10000250-1752332400-1752337800@ubd.edu.bn
SUMMARY:The 7th ASEAN Energy Outlook Dissemination Seminar to Universiti Brunei Darussalam
DESCRIPTION:
URL:https://ubd.edu.bn/event/the-7th-asean-energy-outlook-dissemination-seminar-to-universiti-brunei-darussalam/
CATEGORIES:Seminar
ATTACH;FMTTYPE=image/png:https://ubd.edu.bn/wp-content/uploads/2025/07/CAMES_7thASEAN.png
END:VEVENT
BEGIN:VEVENT
DTSTART;TZID=Asia/Singapore:20250820T140000
DTEND;TZID=Asia/Singapore:20250820T163000
DTSTAMP:20260426T112252
CREATED:20250822T073617Z
LAST-MODIFIED:20250822T073617Z
UID:10000262-1755698400-1755707400@ubd.edu.bn
SUMMARY:IAS Seminar Series
DESCRIPTION:
URL:https://ubd.edu.bn/event/ias-seminar-series-3/
CATEGORIES:Seminar
ATTACH;FMTTYPE=image/png:https://ubd.edu.bn/wp-content/uploads/2025/08/20AUG_IAS.png
END:VEVENT
BEGIN:VEVENT
DTSTART;TZID=Asia/Singapore:20250825T093000
DTEND;TZID=Asia/Singapore:20250825T110000
DTSTAMP:20260426T112252
CREATED:20250822T073843Z
LAST-MODIFIED:20250822T073843Z
UID:10000264-1756114200-1756119600@ubd.edu.bn
SUMMARY:IBER Seminar Series
DESCRIPTION:
URL:https://ubd.edu.bn/event/iber-seminar-series-6/
CATEGORIES:Seminar
ATTACH;FMTTYPE=image/png:https://ubd.edu.bn/wp-content/uploads/2025/08/25AUG_IBER.png
END:VEVENT
BEGIN:VEVENT
DTSTART;TZID=Asia/Singapore:20250827T140000
DTEND;TZID=Asia/Singapore:20250827T160000
DTSTAMP:20260426T112252
CREATED:20250822T073827Z
LAST-MODIFIED:20250822T073827Z
UID:10000263-1756303200-1756310400@ubd.edu.bn
SUMMARY:CANVAS as a Pedagogical Partner: Beyond File Storage
DESCRIPTION:
URL:https://ubd.edu.bn/event/canvas-as-a-pedagogical-partner-beyond-file-storage/
CATEGORIES:Seminar
ATTACH;FMTTYPE=image/png:https://ubd.edu.bn/wp-content/uploads/2025/08/20AUG_INTELECT-1.png
END:VEVENT
BEGIN:VEVENT
DTSTART;TZID=Asia/Singapore:20250917T080000
DTEND;TZID=Asia/Singapore:20250917T170000
DTSTAMP:20260426T112252
CREATED:20250929T065424Z
LAST-MODIFIED:20250929T065424Z
UID:10000275-1758096000-1758128400@ubd.edu.bn
SUMMARY:Sessions by Teaching Excellence Award Nominees
DESCRIPTION:
URL:https://ubd.edu.bn/event/sessions-by-teaching-excellence-award-nominees/2025-09-17/
CATEGORIES:Seminar
ATTACH;FMTTYPE=image/png:https://ubd.edu.bn/wp-content/uploads/2025/09/Sept_InTELECT.png
END:VEVENT
BEGIN:VEVENT
DTSTART;TZID=Asia/Singapore:20250917T140000
DTEND;TZID=Asia/Singapore:20250917T150000
DTSTAMP:20260426T112252
CREATED:20250929T065233Z
LAST-MODIFIED:20250929T065233Z
UID:10000274-1758117600-1758121200@ubd.edu.bn
SUMMARY:Faculty of Science Seminar
DESCRIPTION:
URL:https://ubd.edu.bn/event/faculty-of-science-seminar/
CATEGORIES:Seminar
ATTACH;FMTTYPE=image/jpeg:https://ubd.edu.bn/wp-content/uploads/2025/09/17Sept_FOS.jpg
END:VEVENT
BEGIN:VEVENT
DTSTART;TZID=Asia/Singapore:20250919T080000
DTEND;TZID=Asia/Singapore:20250919T170000
DTSTAMP:20260426T112252
CREATED:20250929T065424Z
LAST-MODIFIED:20250929T065424Z
UID:10000276-1758268800-1758301200@ubd.edu.bn
SUMMARY:Sessions by Teaching Excellence Award Nominees
DESCRIPTION:
URL:https://ubd.edu.bn/event/sessions-by-teaching-excellence-award-nominees/2025-09-19/
CATEGORIES:Seminar
ATTACH;FMTTYPE=image/png:https://ubd.edu.bn/wp-content/uploads/2025/09/Sept_InTELECT.png
END:VEVENT
BEGIN:VEVENT
DTSTART;TZID=Asia/Singapore:20250926T080000
DTEND;TZID=Asia/Singapore:20250926T170000
DTSTAMP:20260426T112252
CREATED:20250929T065424Z
LAST-MODIFIED:20250929T065424Z
UID:10000277-1758873600-1758906000@ubd.edu.bn
SUMMARY:Sessions by Teaching Excellence Award Nominees
DESCRIPTION:
URL:https://ubd.edu.bn/event/sessions-by-teaching-excellence-award-nominees/2025-09-26/
CATEGORIES:Seminar
ATTACH;FMTTYPE=image/png:https://ubd.edu.bn/wp-content/uploads/2025/09/Sept_InTELECT.png
END:VEVENT
BEGIN:VEVENT
DTSTART;TZID=Asia/Singapore:20250929T080000
DTEND;TZID=Asia/Singapore:20250929T170000
DTSTAMP:20260426T112252
CREATED:20250929T072534Z
LAST-MODIFIED:20250929T072534Z
UID:10000281-1759132800-1759165200@ubd.edu.bn
SUMMARY:APB Seminar Series
DESCRIPTION:
URL:https://ubd.edu.bn/event/apb-seminar-series/
CATEGORIES:Seminar
ATTACH;FMTTYPE=image/jpeg:https://ubd.edu.bn/wp-content/uploads/2025/09/3Oct_APB.jpg
END:VEVENT
BEGIN:VEVENT
DTSTART;TZID=Asia/Singapore:20251001T140000
DTEND;TZID=Asia/Singapore:20251001T170000
DTSTAMP:20260426T112252
CREATED:20250930T020134Z
LAST-MODIFIED:20250930T020134Z
UID:10000283-1759327200-1759338000@ubd.edu.bn
SUMMARY:Language Centre Seminar Series | From Heritage to Global Citizenship: Language Education and Sustainable Futures
DESCRIPTION:
URL:https://ubd.edu.bn/event/language-centre-seminar-series-from-heritage-to-global-citizenship-language-education-and-sustainable-futures/
CATEGORIES:Seminar
ATTACH;FMTTYPE=image/png:https://ubd.edu.bn/wp-content/uploads/2025/09/1Oct_LC.png
END:VEVENT
BEGIN:VEVENT
DTSTART;TZID=Asia/Singapore:20260420T103000
DTEND;TZID=Asia/Singapore:20260420T123000
DTSTAMP:20260426T112252
CREATED:20260420T013228Z
LAST-MODIFIED:20260420T013746Z
UID:10000287-1776681000-1776688200@ubd.edu.bn
SUMMARY:IAS Seminar Series | The Use and Abuse of Theory in Academic Writings
DESCRIPTION:
URL:https://ubd.edu.bn/event/ias-seminar-series-the-use-and-abuse-of-theory-in-academic-writings/
LOCATION:room 2.27\, IAS Meeting Room\, 2nd Floor\, FASS Building
CATEGORIES:Seminar
ATTACH;FMTTYPE=image/png:https://ubd.edu.bn/wp-content/uploads/2026/04/IAS-Seminar-Series-Prof-Thomas-Hansen-20Apr26.png
END:VEVENT
BEGIN:VEVENT
DTSTART;TZID=Asia/Singapore:20260420T140000
DTEND;TZID=Asia/Singapore:20260420T160000
DTSTAMP:20260426T112252
CREATED:20260420T014115Z
LAST-MODIFIED:20260420T014115Z
UID:10000288-1776693600-1776700800@ubd.edu.bn
SUMMARY:IAS Workshop | What is Your Career Capital? Shaping Your Research and Future Path
DESCRIPTION:
URL:https://ubd.edu.bn/event/ias-workshop-what-is-your-career-capital-shaping-your-research-and-future-path/
LOCATION:room 2.27\, IAS Meeting Room\, 2nd Floor\, FASS Building
CATEGORIES:Seminar
ATTACH;FMTTYPE=image/png:https://ubd.edu.bn/wp-content/uploads/2026/04/IAS-Graduate-Workshop-Ms-Hong-Sungah-20Apr26.png
END:VEVENT
BEGIN:VEVENT
DTSTART;TZID=Asia/Singapore:20260422T130000
DTEND;TZID=Asia/Singapore:20260422T140000
DTSTAMP:20260426T112252
CREATED:20260420T020748Z
LAST-MODIFIED:20260420T020748Z
UID:10000293-1776862800-1776866400@ubd.edu.bn
SUMMARY:FASS Seminar Series | Final Report on Blue Carbon Seagrass Profiling of Brunei Darussalam
DESCRIPTION:
URL:https://ubd.edu.bn/event/fass-seminar-series-final-report-on-blue-carbon-seagrass-profiling-of-brunei-darussalam/
LOCATION:Room 1.89\, FASS Building\, Brunei Darussalam
CATEGORIES:Seminar
ATTACH;FMTTYPE=image/png:https://ubd.edu.bn/wp-content/uploads/2026/04/image001.png
END:VEVENT
BEGIN:VEVENT
DTSTART;TZID=Asia/Singapore:20260422T141500
DTEND;TZID=Asia/Singapore:20260422T161500
DTSTAMP:20260426T112252
CREATED:20260420T021154Z
LAST-MODIFIED:20260420T021154Z
UID:10000294-1776867300-1776874500@ubd.edu.bn
SUMMARY:LC Seminar Series | Scaling Ai in Higher Education: A Sharing Session on Micro-Credential Course Design and Global Governance Insights from ASEFInnoLab6
DESCRIPTION:
URL:https://ubd.edu.bn/event/lc-seminar-series-scaling-ai-in-higher-education-a-sharing-session-on-micro-credential-course-design-and-global-governance-insights-from-asefinnolab6/
LOCATION:LC Meeting Room\, Level 3\, UTH Building
CATEGORIES:Seminar
ATTACH;FMTTYPE=image/png:https://ubd.edu.bn/wp-content/uploads/2026/04/MD-SHAFIEE-2026-SEMINAR-SERIES1-1.png
END:VEVENT
BEGIN:VEVENT
DTSTART;TZID=Asia/Singapore:20260422T143000
DTEND;TZID=Asia/Singapore:20260422T163000
DTSTAMP:20260426T112252
CREATED:20260421T025303Z
LAST-MODIFIED:20260421T025303Z
UID:10000301-1776868200-1776875400@ubd.edu.bn
SUMMARY:LC Seminar Series | Strategic Efforts to Strengthen the Use of Standard Malay in Higher Education: Proactive Measures at Universiti Brunei Darussalam
DESCRIPTION:
URL:https://ubd.edu.bn/event/lc-seminar-series-strategic-efforts-to-strengthen-the-use-of-standard-malay-in-higher-education-proactive-measures-at-universiti-brunei-darussalam/
LOCATION:LC Meeting Room\, Level 3\, UTH Building
CATEGORIES:Seminar
ATTACH;FMTTYPE=image/png:https://ubd.edu.bn/wp-content/uploads/2026/04/Puan-Rabiatul-Adawiyyah-binti-Haji-Hassan-2026-SEMINAR-SERIES.png
END:VEVENT
BEGIN:VEVENT
DTSTART;TZID=Asia/Singapore:20260423T140000
DTEND;TZID=Asia/Singapore:20260423T160000
DTSTAMP:20260426T112252
CREATED:20260420T022727Z
LAST-MODIFIED:20260420T022727Z
UID:10000297-1776952800-1776960000@ubd.edu.bn
SUMMARY:UBDSBE Seminar Series | What Editors Want: A Complete Guide to Publishing in Financial Economics
DESCRIPTION:
URL:https://ubd.edu.bn/event/ubdsbe-seminar-series-what-editors-want-a-complete-guide-to-publishing-in-financial-economics/
LOCATION:UBDSBE Conference Room
CATEGORIES:Seminar
END:VEVENT
END:VCALENDAR