BEGIN:VCALENDAR
VERSION:2.0
PRODID:-//Universiti Brunei Darussalam - ECPv6.13.2.1//NONSGML v1.0//EN
CALSCALE:GREGORIAN
METHOD:PUBLISH
X-ORIGINAL-URL:https://ubd.edu.bn
X-WR-CALDESC:Events for Universiti Brunei Darussalam
REFRESH-INTERVAL;VALUE=DURATION:PT1H
X-Robots-Tag:noindex
X-PUBLISHED-TTL:PT1H
BEGIN:VTIMEZONE
TZID:Asia/Singapore
BEGIN:STANDARD
TZOFFSETFROM:+0800
TZOFFSETTO:+0800
TZNAME:+08
DTSTART:20240101T000000
END:STANDARD
END:VTIMEZONE
BEGIN:VEVENT
DTSTART;VALUE=DATE:20241107
DTEND;VALUE=DATE:20241109
DTSTAMP:20260426T015048
CREATED:20241028T030730Z
LAST-MODIFIED:20241104T124101Z
UID:10000104-1730937600-1731110399@ubd.edu.bn
SUMMARY:C3L Short Course | Introduction to Occupational Hygiene and Toxicology
DESCRIPTION:
URL:https://ubd.edu.bn/event/c3l-short-couse-introduction-to-occupational-hygiene-and-toxicology/
CATEGORIES:Short Course
ATTACH;FMTTYPE=image/png:https://ubd.edu.bn/wp-content/uploads/2024/10/7th8th_POLL.png
END:VEVENT
END:VCALENDAR