BEGIN:VCALENDAR
VERSION:2.0
PRODID:-//Universiti Brunei Darussalam - ECPv6.13.2.1//NONSGML v1.0//EN
CALSCALE:GREGORIAN
METHOD:PUBLISH
X-WR-CALNAME:Universiti Brunei Darussalam
X-ORIGINAL-URL:https://ubd.edu.bn
X-WR-CALDESC:Events for Universiti Brunei Darussalam
REFRESH-INTERVAL;VALUE=DURATION:PT1H
X-Robots-Tag:noindex
X-PUBLISHED-TTL:PT1H
BEGIN:VTIMEZONE
TZID:Asia/Singapore
BEGIN:STANDARD
TZOFFSETFROM:+0800
TZOFFSETTO:+0800
TZNAME:+08
DTSTART:20240101T000000
END:STANDARD
END:VTIMEZONE
BEGIN:VEVENT
DTSTART;TZID=Asia/Singapore:20240203T090000
DTEND;TZID=Asia/Singapore:20240204T170000
DTSTAMP:20260423T071213
CREATED:20240130T070154Z
LAST-MODIFIED:20240201T010849Z
UID:10000035-1706950800-1707066000@ubd.edu.bn
SUMMARY:UBD OPEN DAY 2024 and HIGHER EDUCATION EXPO 2024
DESCRIPTION:
URL:https://ubd.edu.bn/event/ubd-open-day-2024-and-higher-education-expo-2024/
LOCATION:University Library\, Tungku\, Brunei Muara\, BE1410\, Brunei Darussalam
CATEGORIES:Special Event
END:VEVENT
BEGIN:VEVENT
DTSTART;TZID=Asia/Singapore:20240209T093000
DTEND;TZID=Asia/Singapore:20240209T110000
DTSTAMP:20260423T071213
CREATED:20240207T005510Z
LAST-MODIFIED:20240207T005510Z
UID:10000036-1707471000-1707476400@ubd.edu.bn
SUMMARY:Quranic Journey | Sesi Tadabbur Al-Quran Perdana Bersama Mufti
DESCRIPTION:
URL:https://ubd.edu.bn/event/quranic-journey-sesi-tadabbur-al-quran-perdana-bersama-mufti/
LOCATION:University Mosque
CATEGORIES:Special Event
END:VEVENT
END:VCALENDAR