BEGIN:VCALENDAR
VERSION:2.0
PRODID:-//Universiti Brunei Darussalam - ECPv6.13.2.1//NONSGML v1.0//EN
CALSCALE:GREGORIAN
METHOD:PUBLISH
X-ORIGINAL-URL:https://ubd.edu.bn
X-WR-CALDESC:Events for Universiti Brunei Darussalam
REFRESH-INTERVAL;VALUE=DURATION:PT1H
X-Robots-Tag:noindex
X-PUBLISHED-TTL:PT1H
BEGIN:VTIMEZONE
TZID:Asia/Singapore
BEGIN:STANDARD
TZOFFSETFROM:+0800
TZOFFSETTO:+0800
TZNAME:+08
DTSTART:20240101T000000
END:STANDARD
END:VTIMEZONE
BEGIN:VEVENT
DTSTART;TZID=Asia/Singapore:20241101T163000
DTEND;TZID=Asia/Singapore:20241101T183000
DTSTAMP:20260422T170833
CREATED:20241101T020746Z
LAST-MODIFIED:20241101T020746Z
UID:10000117-1730478600-1730485800@ubd.edu.bn
SUMMARY:IPT Invitation Futsal Tournament in Conjunction of Pesta Konvo 2024
DESCRIPTION:IPT Invitation Futsal Tournament in Conjunction of Pesta Konvo 2024\nDate: \n01 November 2024 (Friday)\n03 November 2024 (Sunday)\n08 November 2024 (Friday) \nTime:\n4.30pm \nVenue: UBD Sports Complex
URL:https://ubd.edu.bn/event/ipt-invitation-futsal-tournament-in-conjunction-of-pesta-konvo-2024/2024-11-01/
LOCATION:UBD Sports Complex\, Brunei Darussalam
CATEGORIES:Special Event,Sports
END:VEVENT
BEGIN:VEVENT
DTSTART;TZID=Asia/Singapore:20241103T163000
DTEND;TZID=Asia/Singapore:20241103T180000
DTSTAMP:20260422T170833
CREATED:20241101T020746Z
LAST-MODIFIED:20241101T020746Z
UID:10000118-1730651400-1730656800@ubd.edu.bn
SUMMARY:IPT Invitation Futsal Tournament in Conjunction of Pesta Konvo 2024
DESCRIPTION:IPT Invitation Futsal Tournament in Conjunction of Pesta Konvo 2024\nDate: \n01 November 2024 (Friday)\n03 November 2024 (Sunday)\n08 November 2024 (Friday) \nTime:\n4.30pm \nVenue: UBD Sports Complex
URL:https://ubd.edu.bn/event/ipt-invitation-futsal-tournament-in-conjunction-of-pesta-konvo-2024/2024-11-03/
LOCATION:UBD Sports Complex\, Brunei Darussalam
CATEGORIES:Special Event,Sports
END:VEVENT
BEGIN:VEVENT
DTSTART;TZID=Asia/Singapore:20241104T090000
DTEND;TZID=Asia/Singapore:20241107T163000
DTSTAMP:20260422T170833
CREATED:20241031T022844Z
LAST-MODIFIED:20241101T023351Z
UID:10000114-1730710800-1730997000@ubd.edu.bn
SUMMARY:INCUFEST 2024
DESCRIPTION:UBD Incubation Festival\nA celebration of Ideas and Innovation\nInspiring Hub\, IEED\, UBD | 4th to 7th November 2024\n9.00 am to 4.30 pm
URL:https://ubd.edu.bn/event/incufest-2024/
CATEGORIES:Special Event
ATTACH;FMTTYPE=image/jpeg:https://ubd.edu.bn/wp-content/uploads/2024/10/4-7INCUFEST.jpg
END:VEVENT
BEGIN:VEVENT
DTSTART;VALUE=DATE:20241106
DTEND;VALUE=DATE:20241107
DTSTAMP:20260422T170833
CREATED:20241028T025941Z
LAST-MODIFIED:20241028T030101Z
UID:10000100-1730851200-1730937599@ubd.edu.bn
SUMMARY:C3L OPEN DAY and LIFELONG LEARNING FESTIVAL
DESCRIPTION:
URL:https://ubd.edu.bn/event/c3l-open-day-and-lifelong-learning-festival/
CATEGORIES:Special Event
ATTACH;FMTTYPE=image/png:https://ubd.edu.bn/wp-content/uploads/2024/10/6NOV_C3LOPENDAY.png
END:VEVENT
BEGIN:VEVENT
DTSTART;TZID=Asia/Singapore:20241107T140000
DTEND;TZID=Asia/Singapore:20241107T170000
DTSTAMP:20260422T170833
CREATED:20241104T123004Z
LAST-MODIFIED:20241104T123004Z
UID:10000123-1730988000-1730998800@ubd.edu.bn
SUMMARY:SHBIE MTeach Showcase
DESCRIPTION:
URL:https://ubd.edu.bn/event/shbie-mteach-showcase/
CATEGORIES:Special Event
ATTACH;FMTTYPE=image/jpeg:https://ubd.edu.bn/wp-content/uploads/2024/11/SHBIE_MTEACH.jpg
END:VEVENT
BEGIN:VEVENT
DTSTART;TZID=Asia/Singapore:20241108T163000
DTEND;TZID=Asia/Singapore:20241108T180000
DTSTAMP:20260422T170833
CREATED:20241101T020746Z
LAST-MODIFIED:20241101T020746Z
UID:10000119-1731083400-1731088800@ubd.edu.bn
SUMMARY:IPT Invitation Futsal Tournament in Conjunction of Pesta Konvo 2024
DESCRIPTION:IPT Invitation Futsal Tournament in Conjunction of Pesta Konvo 2024\nDate: \n01 November 2024 (Friday)\n03 November 2024 (Sunday)\n08 November 2024 (Friday) \nTime:\n4.30pm \nVenue: UBD Sports Complex
URL:https://ubd.edu.bn/event/ipt-invitation-futsal-tournament-in-conjunction-of-pesta-konvo-2024/2024-11-08/
LOCATION:UBD Sports Complex\, Brunei Darussalam
CATEGORIES:Special Event,Sports
END:VEVENT
BEGIN:VEVENT
DTSTART;TZID=Asia/Singapore:20241115T140000
DTEND;TZID=Asia/Singapore:20241115T180000
DTSTAMP:20260422T170833
CREATED:20241111T025237Z
LAST-MODIFIED:20241111T025237Z
UID:10000140-1731679200-1731693600@ubd.edu.bn
SUMMARY:7th PRISM UBD Short Film Festival
DESCRIPTION:
URL:https://ubd.edu.bn/event/7th-prism-ubd-short-film-festival/
CATEGORIES:Special Event
ATTACH;FMTTYPE=image/png:https://ubd.edu.bn/wp-content/uploads/2024/11/15N0V_PRISM.png
END:VEVENT
END:VCALENDAR