BEGIN:VCALENDAR
VERSION:2.0
PRODID:-//Universiti Brunei Darussalam - ECPv6.13.2.1//NONSGML v1.0//EN
CALSCALE:GREGORIAN
METHOD:PUBLISH
X-ORIGINAL-URL:https://ubd.edu.bn
X-WR-CALDESC:Events for Universiti Brunei Darussalam
REFRESH-INTERVAL;VALUE=DURATION:PT1H
X-Robots-Tag:noindex
X-PUBLISHED-TTL:PT1H
BEGIN:VTIMEZONE
TZID:Asia/Singapore
BEGIN:STANDARD
TZOFFSETFROM:+0800
TZOFFSETTO:+0800
TZNAME:+08
DTSTART:20240101T000000
END:STANDARD
END:VTIMEZONE
BEGIN:VEVENT
DTSTART;TZID=Asia/Singapore:20240913T140000
DTEND;TZID=Asia/Singapore:20240913T163000
DTSTAMP:20260422T210637
CREATED:20240905T020840Z
LAST-MODIFIED:20240905T020840Z
UID:10000082-1726236000-1726245000@ubd.edu.bn
SUMMARY:TEDX UNIVERSITI BRUNEI DARUSSALAM | Futuring Together: Inspiring Collective Vision for Tomorrow's World
DESCRIPTION:
URL:https://ubd.edu.bn/event/tedx-universiti-brunei-darussalam-futuring-together-inspiring-collective-vision-for-tomorrows-world/
CATEGORIES:Special Event
ATTACH;FMTTYPE=image/png:https://ubd.edu.bn/wp-content/uploads/2024/09/13SEPT_TEDX.png
END:VEVENT
END:VCALENDAR