BEGIN:VCALENDAR
VERSION:2.0
PRODID:-//Universiti Brunei Darussalam - ECPv6.13.2.1//NONSGML v1.0//EN
CALSCALE:GREGORIAN
METHOD:PUBLISH
X-WR-CALNAME:Universiti Brunei Darussalam
X-ORIGINAL-URL:https://ubd.edu.bn
X-WR-CALDESC:Events for Universiti Brunei Darussalam
REFRESH-INTERVAL;VALUE=DURATION:PT1H
X-Robots-Tag:noindex
X-PUBLISHED-TTL:PT1H
BEGIN:VTIMEZONE
TZID:Asia/Singapore
BEGIN:STANDARD
TZOFFSETFROM:+0800
TZOFFSETTO:+0800
TZNAME:+08
DTSTART:20250101T000000
END:STANDARD
END:VTIMEZONE
BEGIN:VEVENT
DTSTART;TZID=Asia/Singapore:20250106T080000
DTEND;TZID=Asia/Singapore:20250110T163000
DTSTAMP:20260423T060153
CREATED:20241218T012938Z
LAST-MODIFIED:20241218T012938Z
UID:10000157-1736150400-1736526600@ubd.edu.bn
SUMMARY:Freshers' Week (January 2025 intake)
DESCRIPTION:
URL:https://ubd.edu.bn/event/freshers-week-january-2025-intake/
LOCATION:Chancellor Hall
CATEGORIES:Special Event
END:VEVENT
BEGIN:VEVENT
DTSTART;VALUE=DATE:20250125
DTEND;VALUE=DATE:20250127
DTSTAMP:20260423T060153
CREATED:20250109T073627Z
LAST-MODIFIED:20250109T073723Z
UID:10000165-1737763200-1737935999@ubd.edu.bn
SUMMARY:Green Wonders | UBD Botanical Research Centre's Flora Fest
DESCRIPTION:
URL:https://ubd.edu.bn/event/green-wonders-ubd-botanical-research-centres-flora-fest/
CATEGORIES:Special Event
ATTACH;FMTTYPE=image/png:https://ubd.edu.bn/wp-content/uploads/2025/01/25JAN_BRC.png
END:VEVENT
BEGIN:VEVENT
DTSTART;TZID=Asia/Singapore:20250209T080000
DTEND;TZID=Asia/Singapore:20250216T170000
DTSTAMP:20260423T060153
CREATED:20250205T080056Z
LAST-MODIFIED:20250205T080056Z
UID:10000171-1739088000-1739725200@ubd.edu.bn
SUMMARY:UBD Discovery Week 2025
DESCRIPTION:
URL:https://ubd.edu.bn/event/ubd-discovery-week-2025/
CATEGORIES:Special Event
ATTACH;FMTTYPE=image/jpeg:https://ubd.edu.bn/wp-content/uploads/2025/02/UBDDW2025_widescreen_1920-x-1080_-scaled.jpg
END:VEVENT
BEGIN:VEVENT
DTSTART;VALUE=DATE:20250210
DTEND;VALUE=DATE:20250213
DTSTAMP:20260423T060153
CREATED:20250210T073210Z
LAST-MODIFIED:20250210T073246Z
UID:10000174-1739145600-1739404799@ubd.edu.bn
SUMMARY:Stellar: Spectrum 2025 Festival
DESCRIPTION:
URL:https://ubd.edu.bn/event/stellar-spectrum-2025-festival/
CATEGORIES:Special Event
ATTACH;FMTTYPE=image/jpeg:https://ubd.edu.bn/wp-content/uploads/2025/02/SPECTRUM_STELLAR-scaled.jpg
END:VEVENT
BEGIN:VEVENT
DTSTART;VALUE=DATE:20250217
DTEND;VALUE=DATE:20250218
DTSTAMP:20260423T060153
CREATED:20250219T010141Z
LAST-MODIFIED:20250219T010141Z
UID:10000184-1739750400-1739836799@ubd.edu.bn
SUMMARY:HEP ROADSHOW 2025
DESCRIPTION:
URL:https://ubd.edu.bn/event/hep-roadshow-2025/2025-02-17/
CATEGORIES:Special Event
ATTACH;FMTTYPE=image/jpeg:https://ubd.edu.bn/wp-content/uploads/2025/02/HEP_Roadshow.jpg
END:VEVENT
BEGIN:VEVENT
DTSTART;TZID=Asia/Singapore:20250218T150000
DTEND;TZID=Asia/Singapore:20250218T170000
DTSTAMP:20260423T060153
CREATED:20250213T060436Z
LAST-MODIFIED:20250213T060436Z
UID:10000181-1739890800-1739898000@ubd.edu.bn
SUMMARY:Upacara Menaikkan Bendera Kebangsaan
DESCRIPTION:
URL:https://ubd.edu.bn/event/upacara-menaikkan-bendera-kebangsaan/
CATEGORIES:Special Event
ATTACH;FMTTYPE=image/jpeg:https://ubd.edu.bn/wp-content/uploads/2025/02/18FEB_ND.jpg
END:VEVENT
BEGIN:VEVENT
DTSTART;VALUE=DATE:20250225
DTEND;VALUE=DATE:20250226
DTSTAMP:20260423T060153
CREATED:20250219T010141Z
LAST-MODIFIED:20250219T010141Z
UID:10000185-1740477600-1740499200@ubd.edu.bn
SUMMARY:HEP ROADSHOW 2025
DESCRIPTION:
URL:https://ubd.edu.bn/event/hep-roadshow-2025/2025-02-25/
CATEGORIES:Special Event
ATTACH;FMTTYPE=image/jpeg:https://ubd.edu.bn/wp-content/uploads/2025/02/HEP_Roadshow.jpg
END:VEVENT
BEGIN:VEVENT
DTSTART;VALUE=DATE:20250226
DTEND;VALUE=DATE:20250227
DTSTAMP:20260423T060153
CREATED:20250219T010141Z
LAST-MODIFIED:20250219T010141Z
UID:10000186-1740564000-1740585600@ubd.edu.bn
SUMMARY:HEP ROADSHOW 2025
DESCRIPTION:
URL:https://ubd.edu.bn/event/hep-roadshow-2025/2025-02-26/
CATEGORIES:Special Event
ATTACH;FMTTYPE=image/jpeg:https://ubd.edu.bn/wp-content/uploads/2025/02/HEP_Roadshow.jpg
END:VEVENT
BEGIN:VEVENT
DTSTART;TZID=Asia/Singapore:20250321T090000
DTEND;TZID=Asia/Singapore:20250321T110000
DTSTAMP:20260423T060153
CREATED:20250324T030913Z
LAST-MODIFIED:20250324T030913Z
UID:10000199-1742547600-1742554800@ubd.edu.bn
SUMMARY:Majlis Khatam Al-Quran dan Tadabbur Khas
DESCRIPTION:
URL:https://ubd.edu.bn/event/majlis-khatam-al-quran-dan-tadabbur-khas/
CATEGORIES:Special Event,Weekly Event
ATTACH;FMTTYPE=image/jpeg:https://ubd.edu.bn/wp-content/uploads/2025/03/QJ_21MAR.jpg
END:VEVENT
BEGIN:VEVENT
DTSTART;TZID=Asia/Singapore:20250328T083000
DTEND;TZID=Asia/Singapore:20250328T110000
DTSTAMP:20260423T060153
CREATED:20250327T032347Z
LAST-MODIFIED:20250327T032421Z
UID:10000208-1743150600-1743159600@ubd.edu.bn
SUMMARY:Quranic Journey
DESCRIPTION:
URL:https://ubd.edu.bn/event/quranic-journey-17/
CATEGORIES:Special Event
ATTACH;FMTTYPE=image/jpeg:https://ubd.edu.bn/wp-content/uploads/2025/03/28MAR_QJ.jpg
END:VEVENT
BEGIN:VEVENT
DTSTART;TZID=Asia/Singapore:20250409T140000
DTEND;TZID=Asia/Singapore:20250409T163000
DTSTAMP:20260423T060153
CREATED:20250327T031330Z
LAST-MODIFIED:20250327T032534Z
UID:10000201-1744207200-1744216200@ubd.edu.bn
SUMMARY:Communication and Negotiation at Work: How to Bridge the Intercultural Gap
DESCRIPTION:
URL:https://ubd.edu.bn/event/21774/
CATEGORIES:Academic,Special Event,Talk
ATTACH;FMTTYPE=image/png:https://ubd.edu.bn/wp-content/uploads/2025/03/9APR_LC.png
END:VEVENT
BEGIN:VEVENT
DTSTART;TZID=Asia/Singapore:20250416T090000
DTEND;TZID=Asia/Singapore:20250516T160000
DTSTAMP:20260423T060153
CREATED:20250416T010954Z
LAST-MODIFIED:20250416T011402Z
UID:10000223-1744794000-1747411200@ubd.edu.bn
SUMMARY:Spectrum Stellar
DESCRIPTION:
URL:https://ubd.edu.bn/event/spectrum-stellar/
CATEGORIES:Special Event
ATTACH;FMTTYPE=image/png:https://ubd.edu.bn/wp-content/uploads/2025/04/Spectrum-Stellar-Main-Gate-Banner-Revised.png
END:VEVENT
BEGIN:VEVENT
DTSTART;TZID=Asia/Singapore:20250625T080000
DTEND;TZID=Asia/Singapore:20251026T170000
DTSTAMP:20260423T060153
CREATED:20250625T021232Z
LAST-MODIFIED:20250625T021232Z
UID:10000243-1750838400-1761498000@ubd.edu.bn
SUMMARY:UBD Ruby Run
DESCRIPTION:https://ryserve.events/ubdrubyrun
URL:https://ubd.edu.bn/event/ubd-ruby-run/
LOCATION:Taman Sir Muda Omar ‘Ali Saifuddien\, Bandar Seri Begawan\, Brunei Darussalam
CATEGORIES:Special Event,Sports
ATTACH;FMTTYPE=image/png:https://ubd.edu.bn/wp-content/uploads/2025/06/1.png
END:VEVENT
BEGIN:VEVENT
DTSTART;VALUE=DATE:20250804
DTEND;VALUE=DATE:20250816
DTSTAMP:20260423T060153
CREATED:20250807T111714Z
LAST-MODIFIED:20250807T111714Z
UID:10000257-1754265600-1755302399@ubd.edu.bn
SUMMARY:Pesta Konvo Vendors
DESCRIPTION:
URL:https://ubd.edu.bn/event/pesta-konvo-vendors/
CATEGORIES:Special Event
ATTACH;FMTTYPE=image/jpeg:https://ubd.edu.bn/wp-content/uploads/2025/08/PK_VENDOR.jpeg
END:VEVENT
BEGIN:VEVENT
DTSTART;VALUE=DATE:20250805
DTEND;VALUE=DATE:20250806
DTSTAMP:20260423T060153
CREATED:20250807T112056Z
LAST-MODIFIED:20250807T112056Z
UID:10000260-1754352000-1754438399@ubd.edu.bn
SUMMARY:Pesta Konvo 2025
DESCRIPTION:
URL:https://ubd.edu.bn/event/pesta-konvo-2025/
CATEGORIES:Special Event
ATTACH;FMTTYPE=image/jpeg:https://ubd.edu.bn/wp-content/uploads/2025/08/PK_Poster-scaled.jpg
END:VEVENT
BEGIN:VEVENT
DTSTART;TZID=Asia/Singapore:20250806T130000
DTEND;TZID=Asia/Singapore:20250806T160000
DTSTAMP:20260423T060153
CREATED:20250807T112006Z
LAST-MODIFIED:20250807T112006Z
UID:10000259-1754485200-1754496000@ubd.edu.bn
SUMMARY:Majlis Khatam Al-Quran dan Doa Kesyukuran Sempena Majlis Konvokesyen ke-37
DESCRIPTION:
URL:https://ubd.edu.bn/event/majlis-khatam-al-quran-dan-doa-kesyukuran-sempena-majlis-konvokesyen-ke-37/
CATEGORIES:Special Event
ATTACH;FMTTYPE=image/jpeg:https://ubd.edu.bn/wp-content/uploads/2025/08/Majlis-Khatam.jpg
END:VEVENT
BEGIN:VEVENT
DTSTART;VALUE=DATE:20250813
DTEND;VALUE=DATE:20250814
DTSTAMP:20260423T060153
CREATED:20250807T111923Z
LAST-MODIFIED:20250807T111923Z
UID:10000258-1755043200-1755129599@ubd.edu.bn
SUMMARY:Majlis Konvokesyen Ke-37
DESCRIPTION:
URL:https://ubd.edu.bn/event/majlis-konvokesyen-ke-37/
CATEGORIES:Special Event
ATTACH;FMTTYPE=image/jpeg:https://ubd.edu.bn/wp-content/uploads/2025/08/MK_Poster-scaled.jpg
END:VEVENT
BEGIN:VEVENT
DTSTART;TZID=Asia/Singapore:20250902T080000
DTEND;TZID=Asia/Singapore:20250902T160000
DTSTAMP:20260423T060153
CREATED:20250829T085147Z
LAST-MODIFIED:20250829T085147Z
UID:10000271-1756800000-1756828800@ubd.edu.bn
SUMMARY:Pre-Career Fair Workshop
DESCRIPTION:
URL:https://ubd.edu.bn/event/pre-career-fair-workshop/
CATEGORIES:Special Event
ATTACH;FMTTYPE=image/jpeg:https://ubd.edu.bn/wp-content/uploads/2025/08/PreCF-Workshop-Speakers.jpeg
END:VEVENT
BEGIN:VEVENT
DTSTART;TZID=Asia/Singapore:20250911T080000
DTEND;TZID=Asia/Singapore:20250913T170000
DTSTAMP:20260423T060153
CREATED:20250829T083114Z
LAST-MODIFIED:20250829T083114Z
UID:10000268-1757577600-1757782800@ubd.edu.bn
SUMMARY:UBD Career Fair 2025
DESCRIPTION:
URL:https://ubd.edu.bn/event/ubd-career-fair-2025/
CATEGORIES:Special Event
ATTACH;FMTTYPE=image/jpeg:https://ubd.edu.bn/wp-content/uploads/2025/08/CF.jpg
END:VEVENT
BEGIN:VEVENT
DTSTART;TZID=Asia/Singapore:20250912T080000
DTEND;TZID=Asia/Singapore:20250913T170000
DTSTAMP:20260423T060153
CREATED:20250829T083410Z
LAST-MODIFIED:20250829T083410Z
UID:10000270-1757664000-1757782800@ubd.edu.bn
SUMMARY:Comedy Night
DESCRIPTION:
URL:https://ubd.edu.bn/event/comedy-night/
CATEGORIES:Special Event
ATTACH;FMTTYPE=image/jpeg:https://ubd.edu.bn/wp-content/uploads/2025/08/Main-KV.jpeg
END:VEVENT
BEGIN:VEVENT
DTSTART;TZID=Asia/Singapore:20250921T080000
DTEND;TZID=Asia/Singapore:20250925T170000
DTSTAMP:20260423T060153
CREATED:20250929T061021Z
LAST-MODIFIED:20250929T061021Z
UID:10000272-1758441600-1758819600@ubd.edu.bn
SUMMARY:UBD Healthy Week 2025
DESCRIPTION:
URL:https://ubd.edu.bn/event/ubd-healthy-week-2025/
CATEGORIES:Special Event
ATTACH;FMTTYPE=image/png:https://ubd.edu.bn/wp-content/uploads/2025/09/HealthyWeek.png
END:VEVENT
BEGIN:VEVENT
DTSTART;TZID=Asia/Singapore:20250923T080000
DTEND;TZID=Asia/Singapore:20250923T170000
DTSTAMP:20260423T060153
CREATED:20250929T065722Z
LAST-MODIFIED:20250929T065722Z
UID:10000280-1758614400-1758646800@ubd.edu.bn
SUMMARY:Family Day at UBD
DESCRIPTION:
URL:https://ubd.edu.bn/event/family-day-at-ubd/
CATEGORIES:Special Event
ATTACH;FMTTYPE=image/jpeg:https://ubd.edu.bn/wp-content/uploads/2025/09/23SEPT_FamilyDay.jpg
END:VEVENT
BEGIN:VEVENT
DTSTART;TZID=Asia/Singapore:20251004T180000
DTEND;TZID=Asia/Singapore:20251004T200000
DTSTAMP:20260423T060153
CREATED:20250929T065559Z
LAST-MODIFIED:20250929T065559Z
UID:10000278-1759600800-1759608000@ubd.edu.bn
SUMMARY:TEDxUniversiti Brunei Darussalam
DESCRIPTION:
URL:https://ubd.edu.bn/event/tedxuniversiti-brunei-darussalam/
CATEGORIES:Special Event,Talk
ATTACH;FMTTYPE=image/jpeg:https://ubd.edu.bn/wp-content/uploads/2025/09/4Oct_TedX.jpg
END:VEVENT
BEGIN:VEVENT
DTSTART;TZID=Asia/Singapore:20260209T080000
DTEND;TZID=Asia/Singapore:20260210T170000
DTSTAMP:20260423T060153
CREATED:20260203T063505Z
LAST-MODIFIED:20260203T063505Z
UID:10000285-1770624000-1770742800@ubd.edu.bn
SUMMARY:UBD Open Day 2026
DESCRIPTION:
URL:https://ubd.edu.bn/event/ubd-open-day-2026/
LOCATION:Chancellor Hall
CATEGORIES:Special Event
ATTACH;FMTTYPE=image/png:https://ubd.edu.bn/wp-content/uploads/2026/02/Open-Day-main-poster.png
END:VEVENT
BEGIN:VEVENT
DTSTART;TZID=Asia/Singapore:20260415T080000
DTEND;TZID=Asia/Singapore:20270731T110000
DTSTAMP:20260423T060153
CREATED:20260417T015540Z
LAST-MODIFIED:20260417T020218Z
UID:10000286-1776240000-1817031600@ubd.edu.bn
SUMMARY:Rooting for the Future
DESCRIPTION:🌳 Help Us Grow the Future: Join the UBD Community Tree Planting! 🌳 \nDear All\, \nGet ready to leave a lasting legacy on our campus! In celebration of UBD’s 40th Anniversary\, we are thrilled to invite you to be a part of UBD Rooting for the Future: Community Series. \nWe have set an ambitious and inspiring goal: to plant 1\,985 trees across the UBD campus by 2027. This isn’t just about planting trees; it’s about our collective commitment to a greener\, more sustainable\, and biodiverse future for our university home. \nDon’t Wait—Contribute Today! \nThe call for contributions is officially open starting today and will run through 31 July 2026. While the actual tree-planting activities for this Community Series will take place later in the year\, now is the time to secure your spot in this historic initiative. \nGet Involved: UBD Community Packages \nWhether you want to contribute individually or team up with friends and colleagues\, there is a way for everyone to participate: \n  \n \nWhy Join the Movement? \nBeyond the environmental impact\, your contribution brings exciting rewards: \n\nA Lasting Legacy: Your name will be featured on the UBD Rooting for the Future commemorative wall.\nHands-on Impact: Get the opportunity to roll up your sleeves and volunteer in actual tree-planting activities.\nRecognition: Receive a special e-certificate to mark your contribution to UBD’s green history.\n\n________________________________________ \nReady to make a difference? \n\nRegister: Complete the online registration form here or scan the QR code below.\nPayment: Follow the attached instructions to make your contribution.\nConfirm: Be sure to upload a screenshot of your payment confirmation directly into the registration form.\n\n \nFor any questions\, feel free to reach out to us at rooting.ubd@ubd.edu.bn. \nLet’s work together to grow a greener\, more vibrant UBD! \nThank you for your support.
URL:https://ubd.edu.bn/event/rooting-for-the-future/
CATEGORIES:Special Event
ATTACH;FMTTYPE=image/png:https://ubd.edu.bn/wp-content/uploads/2026/04/Asset-12.png
END:VEVENT
BEGIN:VEVENT
DTSTART;TZID=Asia/Singapore:20260420T080000
DTEND;TZID=Asia/Singapore:20260424T110000
DTSTAMP:20260423T060153
CREATED:20260420T022940Z
LAST-MODIFIED:20260420T022940Z
UID:10000298-1776672000-1777028400@ubd.edu.bn
SUMMARY:Quranic Journey
DESCRIPTION:
URL:https://ubd.edu.bn/event/quranic-journey-32/
LOCATION:Masjid Universiti\, Brunei Darussalam
CATEGORIES:Special Event
END:VEVENT
BEGIN:VEVENT
DTSTART;TZID=Asia/Singapore:20260421T130000
DTEND;TZID=Asia/Singapore:20260421T160000
DTSTAMP:20260423T060153
CREATED:20260420T020239Z
LAST-MODIFIED:20260420T020239Z
UID:10000292-1776776400-1776787200@ubd.edu.bn
SUMMARY:SHBIE | Pameran Bahan Belajar Maujud "Bahan Bantu Belajar - Sentuhan Realiti\, Pemelajaran Berkualiti"
DESCRIPTION:
URL:https://ubd.edu.bn/event/shbie-pameran-bahan-belajar-maujud-bahan-bantu-belajar-sentuhan-realiti-pemelajaran-berkualiti/
LOCATION:Ruang Bicara Minda dan Ruang Legar\, UBD Library
CATEGORIES:Special Event
ATTACH;FMTTYPE=image/jpeg:https://ubd.edu.bn/wp-content/uploads/2026/04/poster-bbm.jpeg
END:VEVENT
BEGIN:VEVENT
DTSTART;TZID=Asia/Singapore:20260423T080000
DTEND;TZID=Asia/Singapore:20260423T120000
DTSTAMP:20260423T060153
CREATED:20260420T021754Z
LAST-MODIFIED:20260420T021754Z
UID:10000295-1776931200-1776945600@ubd.edu.bn
SUMMARY:International Girls in ICT Day 2026 - An Interactive AI Workshop
DESCRIPTION:
URL:https://ubd.edu.bn/event/international-girls-in-ict-day-2026-an-interactive-ai-workshop/
LOCATION:Chancellor Hall
CATEGORIES:Special Event
END:VEVENT
BEGIN:VEVENT
DTSTART;TZID=Asia/Singapore:20260424T143000
DTEND;TZID=Asia/Singapore:20260424T153000
DTSTAMP:20260423T060153
CREATED:20260420T023214Z
LAST-MODIFIED:20260420T023214Z
UID:10000299-1777041000-1777044600@ubd.edu.bn
SUMMARY:SHBIE Showcase | Psychology in Action: Understanding Developmental Changes and How We Respond
DESCRIPTION:
URL:https://ubd.edu.bn/event/shbie-showcase-psychology-in-action-understanding-developmental-changes-and-how-we-respond/
LOCATION:Inspiring Hall\, Student Affairs Building
CATEGORIES:Special Event
ATTACH;FMTTYPE=image/png:https://ubd.edu.bn/wp-content/uploads/2026/04/MindEdU-2026.png
END:VEVENT
END:VCALENDAR