BEGIN:VCALENDAR
VERSION:2.0
PRODID:-//Universiti Brunei Darussalam - ECPv6.13.2.1//NONSGML v1.0//EN
CALSCALE:GREGORIAN
METHOD:PUBLISH
X-WR-CALNAME:Universiti Brunei Darussalam
X-ORIGINAL-URL:https://ubd.edu.bn
X-WR-CALDESC:Events for Universiti Brunei Darussalam
REFRESH-INTERVAL;VALUE=DURATION:PT1H
X-Robots-Tag:noindex
X-PUBLISHED-TTL:PT1H
BEGIN:VTIMEZONE
TZID:Asia/Singapore
BEGIN:STANDARD
TZOFFSETFROM:+0800
TZOFFSETTO:+0800
TZNAME:+08
DTSTART:20260101T000000
END:STANDARD
END:VTIMEZONE
BEGIN:VEVENT
DTSTART;TZID=Asia/Singapore:20260421T080000
DTEND;TZID=Asia/Singapore:20260422T163000
DTSTAMP:20260420T145402
CREATED:20260420T014421Z
LAST-MODIFIED:20260420T014421Z
UID:10000289-1776758400-1776875400@ubd.edu.bn
SUMMARY:C3L Short Course Workshop | UBD Certified Career Coach
DESCRIPTION:
URL:https://ubd.edu.bn/event/c3l-short-course-workshop-ubd-certified-career-coach/
LOCATION:ILIA Executive Room 1\, Ground Floor\, ILIA Building\, Universiti Brunei Darussalam\, Bandar Seri Begawan\, Brunei Muara\, Brunei Darussalam
CATEGORIES:Workshop
END:VEVENT
END:VCALENDAR