BEGIN:VCALENDAR
VERSION:2.0
PRODID:-//Universiti Brunei Darussalam - ECPv6.13.2.1//NONSGML v1.0//EN
CALSCALE:GREGORIAN
METHOD:PUBLISH
X-WR-CALNAME:Universiti Brunei Darussalam
X-ORIGINAL-URL:https://ubd.edu.bn
X-WR-CALDESC:Events for Universiti Brunei Darussalam
REFRESH-INTERVAL;VALUE=DURATION:PT1H
X-Robots-Tag:noindex
X-PUBLISHED-TTL:PT1H
BEGIN:VTIMEZONE
TZID:Asia/Singapore
BEGIN:STANDARD
TZOFFSETFROM:+0800
TZOFFSETTO:+0800
TZNAME:+08
DTSTART:20230101T000000
END:STANDARD
END:VTIMEZONE
BEGIN:VEVENT
DTSTART;TZID=Asia/Singapore:20260421T080000
DTEND;TZID=Asia/Singapore:20260422T163000
DTSTAMP:20260426T001641
CREATED:20260420T014421Z
LAST-MODIFIED:20260420T014421Z
UID:10000289-1776758400-1776875400@ubd.edu.bn
SUMMARY:C3L Short Course Workshop | UBD Certified Career Coach
DESCRIPTION:
URL:https://ubd.edu.bn/event/c3l-short-course-workshop-ubd-certified-career-coach/
LOCATION:ILIA Executive Room 1\, Ground Floor\, ILIA Building\, Universiti Brunei Darussalam\, Bandar Seri Begawan\, Brunei Muara\, Brunei Darussalam
CATEGORIES:Workshop
END:VEVENT
BEGIN:VEVENT
DTSTART;TZID=Asia/Singapore:20230708T083000
DTEND;TZID=Asia/Singapore:20230709T173000
DTSTAMP:20260426T001641
CREATED:20230417T043410Z
LAST-MODIFIED:20230417T043410Z
UID:10000024-1688805000-1688923800@ubd.edu.bn
SUMMARY:Certified Stress Management Consultant Workshop
DESCRIPTION:
URL:https://ubd.edu.bn/event/certified-stress-management-consultant-workshop/
LOCATION:ILIA Executive Room 1\, Ground Floor\, ILIA Building\, Universiti Brunei Darussalam\, Bandar Seri Begawan\, Brunei Muara\, Brunei Darussalam
CATEGORIES:Workshop
ATTACH;FMTTYPE=image/jpeg:https://ubd.edu.bn/wp-content/uploads/2023/04/CSMC-1.jpg
END:VEVENT
BEGIN:VEVENT
DTSTART;TZID=Asia/Singapore:20230602T143000
DTEND;TZID=Asia/Singapore:20230602T163000
DTSTAMP:20260426T001641
CREATED:20230417T035438Z
LAST-MODIFIED:20230417T042232Z
UID:10000020-1685716200-1685723400@ubd.edu.bn
SUMMARY:Growth Mindset
DESCRIPTION:Workshop for Leaders\, Managers and Employees
URL:https://ubd.edu.bn/event/growth-mindset/
LOCATION:ILIA Executive Room 1\, Ground Floor\, ILIA Building\, Universiti Brunei Darussalam\, Bandar Seri Begawan\, Brunei Muara\, Brunei Darussalam
CATEGORIES:Workshop
ATTACH;FMTTYPE=image/jpeg:https://ubd.edu.bn/wp-content/uploads/2023/04/C3L-Wrksp-Growth-Mindset-1.jpg
END:VEVENT
BEGIN:VEVENT
DTSTART;TZID=Asia/Singapore:20230417T080000
DTEND;TZID=Asia/Singapore:20230417T170000
DTSTAMP:20260426T001641
CREATED:20230417T042809Z
LAST-MODIFIED:20230417T042809Z
UID:10000023-1681718400-1681750800@ubd.edu.bn
SUMMARY:Certified Career Coach Workshop
DESCRIPTION:
URL:https://ubd.edu.bn/event/certified-career-coach-workshop/
LOCATION:ILIA Executive Room 1\, Ground Floor\, ILIA Building\, Universiti Brunei Darussalam\, Bandar Seri Begawan\, Brunei Muara\, Brunei Darussalam
CATEGORIES:Workshop
ATTACH;FMTTYPE=image/jpeg:https://ubd.edu.bn/wp-content/uploads/2023/04/CCC-1.jpg
END:VEVENT
END:VCALENDAR