BEGIN:VCALENDAR
VERSION:2.0
PRODID:-//Universiti Brunei Darussalam - ECPv6.13.2.1//NONSGML v1.0//EN
CALSCALE:GREGORIAN
METHOD:PUBLISH
X-WR-CALNAME:Universiti Brunei Darussalam
X-ORIGINAL-URL:https://ubd.edu.bn
X-WR-CALDESC:Events for Universiti Brunei Darussalam
REFRESH-INTERVAL;VALUE=DURATION:PT1H
X-Robots-Tag:noindex
X-PUBLISHED-TTL:PT1H
BEGIN:VTIMEZONE
TZID:Asia/Singapore
BEGIN:STANDARD
TZOFFSETFROM:+0800
TZOFFSETTO:+0800
TZNAME:+08
DTSTART:20260101T000000
END:STANDARD
END:VTIMEZONE
BEGIN:VEVENT
DTSTART;TZID=Asia/Singapore:20260421T090000
DTEND;TZID=Asia/Singapore:20260421T100000
DTSTAMP:20260420T173422
CREATED:20260420T015337Z
LAST-MODIFIED:20260420T015337Z
UID:10000290-1776762000-1776765600@ubd.edu.bn
SUMMARY:U-Beyond X Series | Securing Your Retirement with SPK Self-Employed
DESCRIPTION:
URL:https://ubd.edu.bn/event/u-beyond-x-series-securing-your-retirement-with-spk-self-employed/
LOCATION:Inspiring Hub\, IEED
CATEGORIES:Talk
END:VEVENT
BEGIN:VEVENT
DTSTART;TZID=Asia/Singapore:20260421T101500
DTEND;TZID=Asia/Singapore:20260421T231500
DTSTAMP:20260420T173422
CREATED:20260420T015656Z
LAST-MODIFIED:20260420T015656Z
UID:10000291-1776766500-1776813300@ubd.edu.bn
SUMMARY:U-Beyond Series | Easing Your Retirement Journey
DESCRIPTION:
URL:https://ubd.edu.bn/event/u-beyond-series-easing-your-retirement-journey/
LOCATION:Inspiring Hub\, IEED
CATEGORIES:Talk
ATTACH;FMTTYPE=image/jpeg:https://ubd.edu.bn/wp-content/uploads/2026/04/WhatsApp-Image-2026-04-14-at-09.28.55.jpeg
END:VEVENT
END:VCALENDAR