BEGIN:VCALENDAR
VERSION:2.0
PRODID:-//Universiti Brunei Darussalam - ECPv6.13.2.1//NONSGML v1.0//EN
CALSCALE:GREGORIAN
METHOD:PUBLISH
X-WR-CALNAME:Universiti Brunei Darussalam
X-ORIGINAL-URL:https://ubd.edu.bn
X-WR-CALDESC:Events for Universiti Brunei Darussalam
REFRESH-INTERVAL;VALUE=DURATION:PT1H
X-Robots-Tag:noindex
X-PUBLISHED-TTL:PT1H
BEGIN:VTIMEZONE
TZID:Asia/Singapore
BEGIN:STANDARD
TZOFFSETFROM:+0800
TZOFFSETTO:+0800
TZNAME:+08
DTSTART:20240101T000000
END:STANDARD
END:VTIMEZONE
BEGIN:VEVENT
DTSTART;TZID=Asia/Singapore:20240906T083000
DTEND;TZID=Asia/Singapore:20240906T110000
DTSTAMP:20260423T132018
CREATED:20240905T012116Z
LAST-MODIFIED:20240905T012149Z
UID:10000079-1725611400-1725620400@ubd.edu.bn
SUMMARY:Quranic Journey
DESCRIPTION:
URL:https://ubd.edu.bn/event/quranic-journey-4/
LOCATION:Masjid Universiti\, Brunei Darussalam
CATEGORIES:Weekly Event
ATTACH;FMTTYPE=image/png:https://ubd.edu.bn/wp-content/uploads/2024/09/6SEPT_QJ.png
END:VEVENT
BEGIN:VEVENT
DTSTART;TZID=Asia/Singapore:20240808T080000
DTEND;TZID=Asia/Singapore:20240808T110000
DTSTAMP:20260423T132018
CREATED:20240808T024001Z
LAST-MODIFIED:20240808T024629Z
UID:10000062-1723104000-1723114800@ubd.edu.bn
SUMMARY:Majlis Khatam Al-Quran dan Doa Kesyukuran sempena Majlis Konvokesyen ke-36
DESCRIPTION:
URL:https://ubd.edu.bn/event/majlis-khatam-al-quran-dan-doa-kesyukuran-sempena-majlis-konvokesyen-ke-36/
LOCATION:Masjid Universiti\, Brunei Darussalam
CATEGORIES:Special Event
ATTACH;FMTTYPE=image/jpeg:https://ubd.edu.bn/wp-content/uploads/2024/08/Majliskhatam.jpeg
END:VEVENT
BEGIN:VEVENT
DTSTART;TZID=Asia/Singapore:20240524T083000
DTEND;TZID=Asia/Singapore:20240524T110000
DTSTAMP:20260423T132018
CREATED:20240521T012515Z
LAST-MODIFIED:20240521T062109Z
UID:10000041-1716539400-1716548400@ubd.edu.bn
SUMMARY:Quranic Journey Programme
DESCRIPTION:
URL:https://ubd.edu.bn/event/quranic-journey-programme/
LOCATION:Masjid Universiti\, Brunei Darussalam
CATEGORIES:Weekly Event
END:VEVENT
END:VCALENDAR