BEGIN:VCALENDAR
VERSION:2.0
PRODID:-//Universiti Brunei Darussalam - ECPv6.13.2.1//NONSGML v1.0//EN
CALSCALE:GREGORIAN
METHOD:PUBLISH
X-ORIGINAL-URL:https://ubd.edu.bn
X-WR-CALDESC:Events for Universiti Brunei Darussalam
REFRESH-INTERVAL;VALUE=DURATION:PT1H
X-Robots-Tag:noindex
X-PUBLISHED-TTL:PT1H
BEGIN:VTIMEZONE
TZID:Asia/Singapore
BEGIN:STANDARD
TZOFFSETFROM:+0800
TZOFFSETTO:+0800
TZNAME:+08
DTSTART:20260101T000000
END:STANDARD
END:VTIMEZONE
BEGIN:VEVENT
DTSTART;TZID=Asia/Singapore:20260421T130000
DTEND;TZID=Asia/Singapore:20260421T160000
DTSTAMP:20260420T191140
CREATED:20260420T020239Z
LAST-MODIFIED:20260420T020239Z
UID:10000292-1776776400-1776787200@ubd.edu.bn
SUMMARY:SHBIE | Pameran Bahan Belajar Maujud "Bahan Bantu Belajar - Sentuhan Realiti\, Pemelajaran Berkualiti"
DESCRIPTION:
URL:https://ubd.edu.bn/event/shbie-pameran-bahan-belajar-maujud-bahan-bantu-belajar-sentuhan-realiti-pemelajaran-berkualiti/
LOCATION:Ruang Bicara Minda dan Ruang Legar\, UBD Library
CATEGORIES:Special Event
ATTACH;FMTTYPE=image/jpeg:https://ubd.edu.bn/wp-content/uploads/2026/04/poster-bbm.jpeg
END:VEVENT
END:VCALENDAR